Workbook

Sheet Params
A1: Parameters | B1: Unit/Satuan | C1: Value
A2: Discount Rate | B2: % | C2: 0.12
A3: Total Project Cost | B3: Rp. (Juta) | C3: 5945322
A4: Umur Teknis | B4: Tahun | C4: 30
A5: Interest rate | B5: % | C5: 0.05
A6: Loan Portion | B6: % | C6: 0.84
A7: Equity Portion | B7: % | C7: 0.16
A8: Loan | B8: Rp. (Juta) | C8: 4999990.5
A9: Loan Tenor | B9: Tahun | C9: 10
A10: Principal+Interest Payment | B10: Rp. (Juta) | C10: 660159.53
A11: Corporate Tax Rate | B11: % | C11: 0.22
A12: WACC on Project | B12: % | C12: 0.05
A13: WACC on Equity | B13: % | C13: 0.09
... A23: Harga Bahan Bakar | B23: IDR/Ton | C23: 761100

Sheet Calc
B1: Year | C1: 2012 | D1: 2013 | E1: 2014 | F1: 2015 | G1: 2016 | H1: 2017 | I1: 2018 | J1: 2019 | K1: 2020 | L1: 2021 | M1: 2022 | N1: 2023 | O1: 2024 | P1: 2025 | Q1: 2026 | R1: 2027 | S1: 2028 | T1: 2029 | U1: 2030 | V1: 2031 | W1: 2032 | X1: 2033 | Y1: 2034 | Z1: 2035 | AA1: 2036 | AB1: 2037 | AC1: 2038 | AD1: 2039 | AE1: 2040 | AF1: 2041 | AG1: 2042
B2: Year | C2: 0 | D2: 1 | E2: 2 | F2: 3 | G2: 4 | H2: 5 | I2: 6 | J2: 7 | K2: 8 | L2: 9 | M2: 10 | N2: 11 | O2: 12 | P2: 13 | Q2: 14 | R2: 15 | S2: 16 | T2: 17 | U2: 18 | V2: 19 | W2: 20 | X2: 21 | Y2: 22 | Z2: 23 | AA2: 24 | AB2: 25 | AC2: 26 | AD2: 27 | AE2: 28 | AF2: 29 | AG2: 30
A3: Production variables
A4: Net Capacity Factor | B4: % | C4: 0 | D4: 52.824723 | E4: 76.817904 | F4: 57.722427 | G4: 81.315266 | H4: 64.658305 | I4: 76.865417 | J4: 77.5 | K4: 73.758043 | L4: 80.06725 | M4: 74.213165 | N4: 80.06725 | O4: 79.5657 | P4: 70 | Q4: 65 | R4: 65 | S4: 65 | T4: 65 | U4: 65 | V4: 65 | W4: 65 | X4: 65 | Y4: 65 | Z4: 65 | AA4: 65 | AB4: 65 | AC4: 65 | AD4: 65 | AE4: 65 | AF4: 65 | AG4: 65
A5: EAF | C5: 0 | D5: 76 | E5: 76 | F5: 76 | G5: 76 | H5: 76 | I5: 76 | J5: 76 | K5: 76 | L5: 76 | M5: 76 | N5: 76 | O5: 76 | P5: 76 | Q5: 76 | R5: 76 | S5: 76 | T5: 76 | U5: 76 | V5: 76 | W5: 76 | X5: 76 | Y5: 76 | Z5: 76 | AA5: 76 | AB5: 76 | AC5: 76 | AD5: 76 | AE5: 76 | AF5: 76 | AG5: 76
A6: Production (Bruto) | B6: MWh | C6: 0 | D6: 18549452 | E6: 18132013 | F6: 17506651 | G6: 16940902 | H6: 18131886 | I6: 19528970 | J6: 20390027 | K6: 17532109 | L6: 18883530 | M6: 20544363 | N6: 19205059 | O6: 11801696300 | P6: =P7/(100-SUM(Params!$C$16:$C$17))*100 -> 3773821.7 | Q6: =Q7/(100-SUM(Params!$C$16:$C$17))*100 -> 3504263 | R6: =R7/(100-SUM(Params!$C$16:$C$17))*100 -> 3504263 | S6: =S7/(100-SUM(Params!$C$16:$C$17))*100 -> 3504263 | T6: =T7/(100-SUM(Params!$C$16:$C$17))*100 -> 3504263 | U6: =U7/(100-SUM(Params!$C$16:$C$17))*100 -> 3504263 | V6: =V7/(100-SUM(Params!$C$16:$C$17))*100 -> 3504263 | W6: =W7/(100-SUM(Params!$C$16:$C$17))*100 -> 3504263 | ... AG6: =AG7/(100-SUM(Params!$C$16:$C$17))*100 -> 3504263
A7: Production (Netto) | B7: MWh | C7: 0 | D7: 18539705 | E7: 18114959 | F7: 17489654 | G7: 16923736 | H7: 18122882 | I7: 19513029 | J7: 20378393 | K7: 17519804 | L7: 18864496 | M7: 19250431 | N7: 17955268 | O7: 11024930662 | P7: =P4*8760*Params!$C$15/100 -> 3771180 | Q7: =Q4*8760*Params!$C$15/100 -> 3501810 | R7: =R4*8760*Params!$C$15/100 -> 3501810 | S7: =S4*8760*Params!$C$15/100 -> 3501810 | T7: =T4*8760*Params!$C$15/100 -> 3501810 | U7: =U4*8760*Params!$C$15/100 -> 3501810 | V7: =V4*8760*Params!$C$15/100 -> 3501810 | W7: =W4*8760*Params!$C$15/100 -> 3501810 | ... AG7: =AG4*8760*Params!$C$15/100 -> 3501810
A8: Energy Sales | B8: MWh | C8: 0 | D8: =D7 -> 18539705 | E8: =E7 -> 18114959 | F8: =F7 -> 17489654 | G8: =G7 -> 16923736 | H8: =H7 -> 18122882 | I8: =I7 -> 19513029 | J8: =J7 -> 20378393 | K8: =K7 -> 17519804 | ... AG8: =AG7 -> 3501810
A9: Fuel Consumption | B9: Ton | C9: 0 | D9: 0 | E9: 0 | F9: 0 | G9: 0 | H9: 0 | I9: 0 | J9: 0 | K9: 0 | L9: 0 | M9: 0 | N9: 0 | O9: 0 | P9: =P6*Params!$C$18 -> 2264293 | Q9: =Q6*Params!$C$18 -> 2102557.8 | R9: =R6*Params!$C$18 -> 2102557.8 | S9: =S6*Params!$C$18 -> 2102557.8 | T9: =T6*Params!$C$18 -> 2102557.8 | U9: =U6*Params!$C$18 -> 2102557.8 | V9: =V6*Params!$C$18 -> 2102557.8 | W9: =W6*Params!$C$18 -> 2102557.8 | ... AG9: =AG6*Params!$C$18 -> 2102557.8
A11: Revenue Calculation
A12: Revenue A | B12: Rp. (Juta) | C12: 0 | D12: 12334074 | E12: 15114065 | F12: 15554262 | G12: 13084872 | H12: 15425125 | I12: 15466005 | J12: 16171886 | K12: 14720571 | L12: 14347717 | M12: 16205772 | N12: 15818171 | O12: 8238658.2 | P12: =(Params!$C$19*P5*Params!$C$15*1000*12/100)/1000000 -> 384163.54 | Q12: =(Params!$C$19*Q5*Params!$C$15*1000*12/100)/1000000 -> 384163.54 | R12: =(Params!$C$19*R5*Params!$C$15*1000*12/100)/1000000 -> 384163.54 | S12: =(Params!$C$19*S5*Params!$C$15*1000*12/100)/1000000 -> 384163.54 | T12: =(Params!$C$19*T5*Params!$C$15*1000*12/100)/1000000 -> 384163.54 | U12: =(Params!$C$19*U5*Params!$C$15*1000*12/100)/1000000 -> 384163.54 | V12: =(Params!$C$19*V5*Params!$C$15*1000*12/100)/1000000 -> 384163.54 | W12: =(Params!$C$19*W5*Params!$C$15*1000*12/100)/1000000 -> 384163.54 | ... AG12: =(Params!$C$19*AG5*Params!$C$15*1000*12/100)/1000000 -> 384163.54
A13: Revenue B | B13: Rp. (Juta) | C13: 0 | D13: 0 | E13: 0 | F13: 0 | G13: 0 | H13: 0 | I13: 0 | J13: 0 | K13: 0 | L13: 0 | M13: 0 | N13: 0 | O13: 0 | P13: =(Params!$C$20*P5*Params!$C$15*1000*12/100)/1000000 -> 219317.82 | Q13: =(Params!$C$20*Q5*Params!$C$15*1000*12/100)/1000000 -> 219317.82 | R13: =(Params!$C$20*R5*Params!$C$15*1000*12/100)/1000000 -> 219317.82 | S13: =(Params!$C$20*S5*Params!$C$15*1000*12/100)/1000000 -> 219317.82 | T13: =(Params!$C$20*T5*Params!$C$15*1000*12/100)/1000000 -> 219317.82 | U13: =(Params!$C$20*U5*Params!$C$15*1000*12/100)/1000000 -> 219317.82 | V13: =(Params!$C$20*V5*Params!$C$15*1000*12/100)/1000000 -> 219317.82 | W13: =(Params!$C$20*W5*Params!$C$15*1000*12/100)/1000000 -> 219317.82 | ... AG13: =(Params!$C$20*AG5*Params!$C$15*1000*12/100)/1000000 -> 219317.82
A14: Revenue C | B14: Rp. (Juta) | C14: 0 | D14: 0 | E14: 0 | F14: 0 | G14: 0 | H14: 0 | I14: 0 | J14: 0 | K14: 0 | L14: 0 | M14: 0 | N14: 0 | O14: 0 | P14: =Params!$C$21*P7*1000/1000000 -> 0 | Q14: =Params!$C$21*Q7*1000/1000000 -> 0 | R14: =Params!$C$21*R7*1000/1000000 -> 0 | S14: =Params!$C$21*S7*1000/1000000 -> 0 | T14: =Params!$C$21*T7*1000/1000000 -> 0 | U14: =Params!$C$21*U7*1000/1000000 -> 0 | V14: =Params!$C$21*V7*1000/1000000 -> 0 | W14: =Params!$C$21*W7*1000/1000000 -> 0 | ... AG14: =Params!$C$21*AG7*1000/1000000 -> 0
A15: Revenue D | B15: Rp. (Juta) | C15: 0 | D15: 0 | E15: 0 | F15: 0 | G15: 0 | H15: 0 | I15: 0 | J15: 0 | K15: 0 | L15: 0 | M15: 0 | N15: 0 | O15: 0 | P15: =Params!$C$22*P7*1000/1000000 -> 71765.555 | Q15: =Params!$C$22*Q7*1000/1000000 -> 66639.444 | R15: =Params!$C$22*R7*1000/1000000 -> 66639.444 | S15: =Params!$C$22*S7*1000/1000000 -> 66639.444 | T15: =Params!$C$22*T7*1000/1000000 -> 66639.444 | U15: =Params!$C$22*U7*1000/1000000 -> 66639.444 | V15: =Params!$C$22*V7*1000/1000000 -> 66639.444 | W15: =Params!$C$22*W7*1000/1000000 -> 66639.444 | ... AG15: =Params!$C$22*AG7*1000/1000000 -> 66639.444
A16: Total Revenue | B16: Rp. (Juta) | C16: 0 | D16: =SUM(D12:D15) -> 12334074 | E16: =SUM(E12:E15) -> 15114065 | F16: =SUM(F12:F15) -> 15554262 | G16: =SUM(G12:G15) -> 13084872 | H16: =SUM(H12:H15) -> 15425125 | I16: =SUM(I12:I15) -> 15466005 | J16: =SUM(J12:J15) -> 16171886 | K16: =SUM(K12:K15) -> 14720571 | ... AG16: =SUM(AG12:AG15) -> 670120.8
A17: Total Revenue (PV) | B17: Rp. (Juta) | C17: 0 | D17: =NPV(Params!$C$2, Calc!$D$16:D16) + Calc!$C$16 -> 11012566 | E17: =NPV(Params!$C$2, Calc!$D$16:E16) + Calc!$C$16 -> 23061406 | F17: =NPV(Params!$C$2, Calc!$D$16:F16) + Calc!$C$16 -> 34132622 | G17: =NPV(Params!$C$2, Calc!$D$16:G16) + Calc!$C$16 -> 42448295 | H17: =NPV(Params!$C$2, Calc!$D$16:H16) + Calc!$C$16 -> 51200925 | I17: =NPV(Params!$C$2, Calc!$D$16:I16) + Calc!$C$16 -> 59036484 | J17: =NPV(Params!$C$2, Calc!$D$16:J16) + Calc!$C$16 -> 66351824 | K17: =NPV(Params!$C$2, Calc!$D$16:K16) + Calc!$C$16 -> 72297216 | ... AG17: =NPV(Params!$C$2, Calc!$D$16:AG16) + Calc!$C$16 -> 90599118
A18: Revenue Annualized | B18: Rp. (Juta) | C18: 0 | D18: =-PMT(Params!$C$2, D2,D17) -> 12334074 | E18: =-PMT(Params!$C$2, E2,E17) -> 13645390 | F18: =-PMT(Params!$C$2, F2,F17) -> 14211082 | G18: =-PMT(Params!$C$2, G2,G17) -> 13975440 | H18: =-PMT(Params!$C$2, H2,H17) -> 14203635 | I18: =-PMT(Params!$C$2, I2,I17) -> 14359191 | J18: =-PMT(Params!$C$2, J2,J17) -> 14538861 | K18: =-PMT(Params!$C$2, K2,K17) -> 14553635 | ... AG18: =-PMT(Params!$C$2, AG2,AG17) -> 11247306
A20: Cost Component A
A21: Biaya Investasi Tambahan | B21: Rp. (Juta) | C21: 0 | D21: 2995261.6 | E21: 3378612.6 | F21: 3706763.3 | G21: 4226803.9 | H21: 3605601.9 | I21: 3785865.8 | J21: 4520146 | K21: 4089808.7 | L21: 3996879.2 | M21: 3234483.7 | N21: 2708315.7 | O21: 2782627.9 | P21: 0 | Q21: 0 | R21: 0 | S21: 0 | T21: 0 | U21: 0 | V21: 0 | W21: 0 | X21: 0 | Y21: 0 | Z21: 0 | AA21: 0 | AB21: 0 | AC21: 0 | AD21: 0 | AE21: 0 | AF21: 0 | AG21: 0
A22: Periodic Maintenance (MI) | B22: Rp. (Juta) | C22: 0 | D22: 0 | E22: 0 | F22: 0 | G22: 0 | H22: 0 | I22: 0 | J22: 0 | K22: 0 | L22: 0 | M22: 0 | N22: 0 | O22: 0 | P22: 0 | Q22: 0 | R22: 0 | S22: 0 | T22: 0 | U22: 0 | V22: 0 | W22: 0 | X22: 0 | Y22: 0 | Z22: 0 | AA22: 0 | AB22: 0 | AC22: 0 | AD22: 0 | AE22: 0 | AF22: 0 | AG22: 0
A23: Acqusition Cost | B23: Rp. (Juta) | C23: =Params!C3 -> 5945322 | D23: =SUM(D21:D22) -> 2995261.6 | E23: =SUM(E21:E22) -> 3378612.6 | F23: =SUM(F21:F22) -> 3706763.3 | G23: =SUM(G21:G22) -> 4226803.9 | H23: =SUM(H21:H22) -> 3605601.9 | I23: =SUM(I21:I22) -> 3785865.8 | J23: =SUM(J21:J22) -> 4520146 | K23: =SUM(K21:K22) -> 4089808.7 | ... AG23: =SUM(AG21:AG22) -> 0
A24: Acqusition Cost (PV) | B24: Rp. (Juta) | C24: 0 | D24: =NPV(Params!$C$2, Calc!$D$23:D23) + Params!$C$3 -> 8619662.7 | E24: =NPV(Params!$C$2, Calc!$D$23:E23) + Params!$C$3 -> 11313072 | F24: =NPV(Params!$C$2, Calc!$D$23:F23) + Params!$C$3 -> 13951473 | G24: =NPV(Params!$C$2, Calc!$D$23:G23) + Params!$C$3 -> 16637683 | H24: =NPV(Params!$C$2, Calc!$D$23:H23) + Params!$C$3 -> 18683599 | I24: =NPV(Params!$C$2, Calc!$D$23:I23) + Params!$C$3 -> 20601636 | J24: =NPV(Params!$C$2, Calc!$D$23:J23) + Params!$C$3 -> 22646320 | K24: =NPV(Params!$C$2, Calc!$D$23:K23) + Params!$C$3 -> 24298126 | ... AG24: =NPV(Params!$C$2, Calc!$D$23:AG23) + Params!$C$3 -> 28273665
A25: Acqusition Cost (EAC) | B25: Rp. (Juta) | C25: 0 | D25: =-PMT(Params!$C$2, D2,D24) -> 9654022.2 | E25: =-PMT(Params!$C$2, E2,E24) -> 6693923.4 | F25: =-PMT(Params!$C$2, F2,F24) -> 5808681.5 | G25: =-PMT(Params!$C$2, G2,G24) -> 5477698.3 | H25: =-PMT(Params!$C$2, H2,H24) -> 5183012.1 | I25: =-PMT(Params!$C$2, I2,I24) -> 5010847.7 | J25: =-PMT(Params!$C$2, J2,J24) -> 4962210.5 | K25: =-PMT(Params!$C$2, K2,K24) -> 4891281.7 | ... AG25: =-PMT(Params!$C$2, AG2,AG24) -> 3509996.2
A27: Cost Component C
A28: Fuel Cost | B28: Rp. (Juta) | C28: 0 | D28: 6343463.9 | E28: 6539205.3 | F28: 6309942 | G28: 5567679.3 | H28: 7749736.2 | I28: 8185441.4 | J28: 8060960.1 | K28: 6753433.4 | L28: 7800888.8 | M28: 8645723.3 | N28: 8879870.3 | O28: 5436171.4 | P28: =P9*Params!$C$23/10^6 -> 1723353.4 | Q28: =Q9*Params!$C$23/10^6 -> 1600256.7 | R28: =R9*Params!$C$23/10^6 -> 1600256.7 | S28: =S9*Params!$C$23/10^6 -> 1600256.7 | T28: =T9*Params!$C$23/10^6 -> 1600256.7 | U28: =U9*Params!$C$23/10^6 -> 1600256.7 | V28: =V9*Params!$C$23/10^6 -> 1600256.7 | W28: =W9*Params!$C$23/10^6 -> 1600256.7 | ... AG28: =AG9*Params!$C$23/10^6 -> 1600256.7
A29: Fuel Cost (PV) | B29: Rp. (Juta) | C29: 0 | D29: =NPV(Params!$C$2, Calc!$D$28:D28) + Calc!$C$28 -> 5663807.1 | E29: =NPV(Params!$C$2, Calc!$D$28:E28) + Calc!$C$28 -> 10876821 | F29: =NPV(Params!$C$2, Calc!$D$28:F28) + Calc!$C$28 -> 15368114 | G29: =NPV(Params!$C$2, Calc!$D$28:G28) + Calc!$C$28 -> 18906474 | H29: =NPV(Params!$C$2, Calc!$D$28:H28) + Calc!$C$28 -> 23303883 | I29: =NPV(Params!$C$2, Calc!$D$28:I28) + Calc!$C$28 -> 27450882 | J29: =NPV(Params!$C$2, Calc!$D$28:J28) + Calc!$C$28 -> 31097251 | K29: =NPV(Params!$C$2, Calc!$D$28:K28) + Calc!$C$28 -> 33824850 | ... AG29: =NPV(Params!$C$2, Calc!$D$28:AG28) + Calc!$C$28 -> 46375684
A30: Fuel Cost (EAC) | B30: Rp. (Juta) | C30: 0 | D30: =-PMT(Params!$C$2, D2,D29) -> 6343463.9 | E30: =-PMT(Params!$C$2, E2,E29) -> 6435794.8 | F30: =-PMT(Params!$C$2, F2,F29) -> 6398498.4 | G30: =-PMT(Params!$C$2, G2,G29) -> 6224662.4 | H30: =-PMT(Params!$C$2, H2,H29) -> 6464723.9 | I30: =-PMT(Params!$C$2, I2,I29) -> 6676760.5 | J30: =-PMT(Params!$C$2, J2,J29) -> 6813959.3 | K30: =-PMT(Params!$C$2, K2,K29) -> 6809038.4 | ... AG30: =-PMT(Params!$C$2, AG2,AG29) -> 5757247
A32: Cost Component B and D
A34: O & M Cost | B34: Rp. (Juta) | C34: 0 | D34: 876904.64 | E34: 792213.12 | F34: 826869.33 | G34: 1101837.7 | H34: 929522.68 | I34: 1063432.5 | J34: 1216804.2 | K34: 1333547.6 | L34: 1397846.6 | M34: 1396938.1 | N34: 1691907.2 | O34: 931374.58 | P34: 0 | Q34: 0 | R34: 0 | S34: 0 | T34: 0 | U34: 0 | V34: 0 | W34: 0 | X34: 0 | Y34: 0 | Z34: 0 | AA34: 0 | AB34: 0 | AC34: 0 | AD34: 0 | AE34: 0 | AF34: 0 | AG34: 0
A35: Periodic Maintenance Cost (Non MI) | B35: Rp. (Juta) | C35: 0 | D35: 0 | E35: 0 | F35: 0 | G35: 0 | H35: 0 | I35: 0 | J35: 0 | K35: 0 | L35: 0 | M35: 0 | N35: 0 | O35: 0 | P35: 0 | Q35: 0 | R35: 0 | S35: 0 | T35: 0 | U35: 0 | V35: 0 | W35: 0 | X35: 0 | Y35: 0 | Z35: 0 | AA35: 0 | AB35: 0 | AC35: 0 | AD35: 0 | AE35: 0 | AF35: 0 | AG35: 0
A36: B & D Cost | B36: Rp. (Juta) | C36: 0 | D36: =SUM(D34:D35) -> 876904.64 | E36: =SUM(E34:E35) -> 792213.12 | F36: =SUM(F34:F35) -> 826869.33 | G36: =SUM(G34:G35) -> 1101837.7 | H36: =SUM(H34:H35) -> 929522.68 | I36: =SUM(I34:I35) -> 1063432.5 | J36: =SUM(J34:J35) -> 1216804.2 | K36: =SUM(K34:K35) -> 1333547.6 | ... AG36: =SUM(AG34:AG35) -> 0
A37: B & D Cost (PV) | B37: Rp. (Juta) | C37: 0 | D37: =NPV(Params!$C$2, Calc!$D$36:D36) + Calc!$C$36 -> 782950.57 | E37: =NPV(Params!$C$2, Calc!$D$36:E36) + Calc!$C$36 -> 1414498 | F37: =NPV(Params!$C$2, Calc!$D$36:F36) + Calc!$C$36 -> 2003047.3 | G37: =NPV(Params!$C$2, Calc!$D$36:G36) + Calc!$C$36 -> 2703285.1 | H37: =NPV(Params!$C$2, Calc!$D$36:H36) + Calc!$C$36 -> 3230721.2 | I37: =NPV(Params!$C$2, Calc!$D$36:I36) + Calc!$C$36 -> 3769489.2 | J37: =NPV(Params!$C$2, Calc!$D$36:J36) + Calc!$C$36 -> 4319909.7 | K37: =NPV(Params!$C$2, Calc!$D$36:K36) + Calc!$C$36 -> 4858507.2 | ... AG37: =NPV(Params!$C$2, Calc!$D$36:AG36) + Calc!$C$36 -> 6537804.9
A38: B & D Cost (EAC) | B38: Rp. (Juta) | C38: 0 | D38: =-PMT(Params!$C$2, D2,D37) -> 876904.64 | E38: =-PMT(Params!$C$2, E2,E37) -> 836955.81 | F38: =-PMT(Params!$C$2, F2,F37) -> 833966.69 | G38: =-PMT(Params!$C$2, G2,G37) -> 890014.54 | H38: =-PMT(Params!$C$2, H2,H37) -> 896233.5 | I38: =-PMT(Params!$C$2, I2,I37) -> 916836.73 | J38: =-PMT(Params!$C$2, J2,J37) -> 946568.82 | K38: =-PMT(Params!$C$2, K2,K37) -> 978031.3 | ... AG38: =-PMT(Params!$C$2, AG2,AG37) -> 811627.01
A40: Total Expenses | C40: =C28+C36 -> 0 | D40: =D28+D36 -> 7220368.6 | E40: =E28+E36 -> 7331418.4 | F40: =F28+F36 -> 7136811.3 | G40: =G28+G36 -> 6669517 | H40: =H28+H36 -> 8679258.9 | I40: =I28+I36 -> 9248873.9 | J40: =J28+J36 -> 9277764.4 | ... AG40: =AG28+AG36 -> 1600256.7
A41: Total Cost (EAC) | B41: Rp. (Juta) | C41: =C25+C30+C38 -> 0 | D41: =D25+D30+D38 -> 16874391 | E41: =E25+E30+E38 -> 13966674 | F41: =F25+F30+F38 -> 13041147 | G41: =G25+G30+G38 -> 12592375 | H41: =H25+H30+H38 -> 12543969 | I41: =I25+I30+I38 -> 12604445 | J41: =J25+J30+J38 -> 12722739 | ... AG41: =AG25+AG30+AG38 -> 10078870
A42: Profit / Loss | B42: Rp. (Juta) | C42: =C18-C41 -> 0 | D42: =D18-D41 -> -4540316.9 | E42: =E18-E41 -> -321283.52 | F42: =F18-F41 -> 1169935.8 | G42: =G18-G41 -> 1383065.2 | H42: =H18-H41 -> 1659665.4 | I42: =I18-I41 -> 1754746.3 | J42: =J18-J41 -> 1816122.9 | ... AG42: =AG18-AG41 -> 1168435.6
A43: Residual Value | B43: Rp. (Juta) | C43: =Params!C3 -> 5945322 | D43: =C43+D21-D45 -> 8742406.2 | E43: =D43+E21-E45 -> 11819557 | F43: =E43+F21-F45 -> 15104193 | G43: =F43+G21-G45 -> 18771582 | H43: =G43+H21-H45 -> 21655200 | I43: =H43+I21-I45 -> 24574858 | J43: =I43+J21-J45 -> 28071052 | K43: =J43+K21-K45 -> 30940380 | ... AG43: =AF43+AG21-AG45 -> 0
A45: Depreciation | B45: Rp. (Juta) | C45: 0 | D45: =C43/(Params!$C$4-C2) -> 198177.4 | E45: =D43/(Params!$C$4-D2) -> 301462.28 | F45: =E43/(Params!$C$4-E2) -> 422127.02 | G45: =F43/(Params!$C$4-F2) -> 559414.55 | H45: =G43/(Params!$C$4-G2) -> 721983.93 | I45: =H43/(Params!$C$4-H2) -> 866208.01 | J45: =I43/(Params!$C$4-I2) -> 1023952.4 | K45: =J43/(Params!$C$4-J2) -> 1220480.5 | ... AG45: =AF43/(Params!$C$4-AF2) -> 2055566
A46: Interest Payment | B46: Rp. (Juta) | C46: 0 | D46: =Params!$C$5*C48 -> 249999.53 | E46: =Params!$C$5*D48 -> 229491.52 | F46: =Params!$C$5*E48 -> 207958.12 | G46: =Params!$C$5*F48 -> 185348.05 | H46: =Params!$C$5*G48 -> 161607.48 | I46: =Params!$C$5*H48 -> 136679.88 | J46: =Params!$C$5*I48 -> 110505.9 | K46: =Params!$C$5*J48 -> 83023.214 | ... M46: =Params!$C$5*L48 -> 23866.741 | N46: 0 | O46: 0 | P46: 0 | Q46: 0 | R46: 0 | S46: 0 | T46: 0 | U46: 0 | V46: 0 | W46: 0 | X46: 0 | Y46: 0 | Z46: 0 | AA46: 0 | AB46: 0 | AC46: 0 | AD46: 0 | AE46: 0 | AF46: 0 | AG46: 0
A47: Principal Payment | B47: Rp. (Juta) | C47: 0 | D47: =Params!$C$10-D46 -> 410160.01 | E47: =Params!$C$10-E46 -> 430668.01 | F47: =Params!$C$10-F46 -> 452201.41 | G47: =Params!$C$10-G46 -> 474811.48 | H47: =Params!$C$10-H46 -> 498552.05 | I47: =Params!$C$10-I46 -> 523479.65 | J47: =Params!$C$10-J46 -> 549653.63 | K47: =Params!$C$10-K46 -> 577136.32 | ... M47: =Params!$C$10-M46 -> 636292.79 | N47: 0 | O47: 0 | P47: 0 | Q47: 0 | R47: 0 | S47: 0 | T47: 0 | U47: 0 | V47: 0 | W47: 0 | X47: 0 | Y47: 0 | Z47: 0 | AA47: 0 | AB47: 0 | AC47: 0 | AD47: 0 | AE47: 0 | AF47: 0 | AG47: 0
...

Sheet Upload
A1: (Dalam Juta Rupiah) | C1: 2012 | D1: 2013 | E1: 2014 | F1: 2015 | G1: 2016 | H1: 2017 | I1: 2018 | J1: 2019 | K1: 2020 | L1: 2021 | M1: 2022 | N1: 2023 | O1: 2024 | P1: 2025 | Q1: 2026 | R1: 2027 | S1: 2028 | T1: 2029 | U1: 2030 | V1: 2031 | W1: 2032 | X1: 2033 | Y1: 2034 | Z1: 2035 | AA1: 2036 | AB1: 2037 | AC1: 2038 | AD1: 2039 | AE1: 2040 | AF1: 2041 | AG1: 2042
A2: Total Revenue | C2: 0 | D2: =Calc!D16 -> 12334074 | E2: =Calc!E16 -> 15114065 | F2: =Calc!F16 -> 15554262 | G2: =Calc!G16 -> 13084872 | H2: =Calc!H16 -> 15425125 | I2: =Calc!I16 -> 15466005 | J2: =Calc!J16 -> 16171886 | K2: =Calc!K16 -> 14720571 | ... AG2: =Calc!AG16 -> 670120.8
B3: Revenue A | C3: =Calc!C12 -> 0 | D3: =Calc!D12 -> 12334074 | E3: =Calc!E12 -> 15114065 | F3: =Calc!F12 -> 15554262 | G3: =Calc!G12 -> 13084872 | H3: =Calc!H12 -> 15425125 | I3: =Calc!I12 -> 15466005 | J3: =Calc!J12 -> 16171886 | ... AG3: =Calc!AG12 -> 384163.54
B4: Revenue B | C4: =Calc!C13 -> 0 | D4: =Calc!D13 -> 0 | E4: =Calc!E13 -> 0 | F4: =Calc!F13 -> 0 | G4: =Calc!G13 -> 0 | H4: =Calc!H13 -> 0 | I4: =Calc!I13 -> 0 | J4: =Calc!J13 -> 0 | ... AG4: =Calc!AG13 -> 219317.82
B5: Revenue C | C5: =Calc!C14 -> 0 | D5: =Calc!D14 -> 0 | E5: =Calc!E14 -> 0 | F5: =Calc!F14 -> 0 | G5: =Calc!G14 -> 0 | H5: =Calc!H14 -> 0 | I5: =Calc!I14 -> 0 | J5: =Calc!J14 -> 0 | ... AG5: =Calc!AG14 -> 0
B6: Revenue D | C6: =Calc!C15 -> 0 | D6: =Calc!D15 -> 0 | E6: =Calc!E15 -> 0 | F6: =Calc!F15 -> 0 | G6: =Calc!G15 -> 0 | H6: =Calc!H15 -> 0 | I6: =Calc!I15 -> 0 | J6: =Calc!J15 -> 0 | ... AG6: =Calc!AG15 -> 66639.444
A7: Revenue Annualized | C7: =Calc!C18 -> 0 | D7: =Calc!D18 -> 12334074 | E7: =Calc!E18 -> 13645390 | F7: =Calc!F18 -> 14211082 | G7: =Calc!G18 -> 13975440 | H7: =Calc!H18 -> 14203635 | I7: =Calc!I18 -> 14359191 | J7: =Calc!J18 -> 14538861 | ... AG7: =Calc!AG18 -> 11247306
A8: Fuel Cost (Component C) | C8: =Calc!C28 -> 0 | D8: =Calc!D28 -> 6343463.9 | E8: =Calc!E28 -> 6539205.3 | F8: =Calc!F28 -> 6309942 | G8: =Calc!G28 -> 5567679.3 | H8: =Calc!H28 -> 7749736.2 | I8: =Calc!I28 -> 8185441.4 | J8: =Calc!J28 -> 8060960.1 | ... AG8: =Calc!AG28 -> 1600256.7
B9: Fuel Cost | C9: =Calc!C28 -> 0 | D9: =Calc!D28 -> 6343463.9 | E9: =Calc!E28 -> 6539205.3 | F9: =Calc!F28 -> 6309942 | G9: =Calc!G28 -> 5567679.3 | H9: =Calc!H28 -> 7749736.2 | I9: =Calc!I28 -> 8185441.4 | J9: =Calc!J28 -> 8060960.1 | ... AG9: =Calc!AG28 -> 1600256.7
A10: Fuel Cost Annualized | C10: =Calc!C30 -> 0 | D10: =Calc!D30 -> 6343463.9 | E10: =Calc!E30 -> 6435794.8 | F10: =Calc!F30 -> 6398498.4 | G10: =Calc!G30 -> 6224662.4 | H10: =Calc!H30 -> 6464723.9 | I10: =Calc!I30 -> 6676760.5 | J10: =Calc!J30 -> 6813959.3 | ... AG10: =Calc!AG30 -> 5757247
A11: O and M Cost (Component B and D) | C11: =Calc!C36 -> 0 | D11: =Calc!D36 -> 876904.64 | E11: =Calc!E36 -> 792213.12 | F11: =Calc!F36 -> 826869.33 | G11: =Calc!G36 -> 1101837.7 | H11: =Calc!H36 -> 929522.68 | I11: =Calc!I36 -> 1063432.5 | J11: =Calc!J36 -> 1216804.2 | ... AG11: =Calc!AG36 -> 0
B12: O and M Cost | C12: =Calc!C34 -> 0 | D12: =Calc!D34 -> 876904.64 | E12: =Calc!E34 -> 792213.12 | F12: =Calc!F34 -> 826869.33 | G12: =Calc!G34 -> 1101837.7 | H12: =Calc!H34 -> 929522.68 | I12: =Calc!I34 -> 1063432.5 | J12: =Calc!J34 -> 1216804.2 | ... AG12: =Calc!AG34 -> 0
B13: Periodic Maintenance Cost (NonMI) | C13: =Calc!C35 -> 0 | D13: =Calc!D35 -> 0 | E13: =Calc!E35 -> 0 | F13: =Calc!F35 -> 0 | G13: =Calc!G35 -> 0 | H13: =Calc!H35 -> 0 | I13: =Calc!I35 -> 0 | J13: =Calc!J35 -> 0 | ... AG13: =Calc!AG35 -> 0
A14: O and M Cost Annualized | C14: =Calc!C38 -> 0 | D14: =Calc!D38 -> 876904.64 | E14: =Calc!E38 -> 836955.81 | F14: =Calc!F38 -> 833966.69 | G14: =Calc!G38 -> 890014.54 | H14: =Calc!H38 -> 896233.5 | I14: =Calc!I38 -> 916836.73 | J14: =Calc!J38 -> 946568.82 | ... AG14: =Calc!AG38 -> 811627.01
A15: Capex (Component A) | C15: =Calc!C23 -> 5945322 | D15: =Calc!D23 -> 2995261.6 | E15: =Calc!E23 -> 3378612.6 | F15: =Calc!F23 -> 3706763.3 | G15: =Calc!G23 -> 4226803.9 | H15: =Calc!H23 -> 3605601.9 | I15: =Calc!I23 -> 3785865.8 | J15: =Calc!J23 -> 4520146 | ... AG15: =Calc!AG23 -> 0
B16: Biaya Investasi Tambahan | C16: =Calc!C21 -> 0 | D16: =Calc!D21 -> 2995261.6 | E16: =Calc!E21 -> 3378612.6 | F16: =Calc!F21 -> 3706763.3 | G16: =Calc!G21 -> 4226803.9 | H16: =Calc!H21 -> 3605601.9 | I16: =Calc!I21 -> 3785865.8 | J16: =Calc!J21 -> 4520146 | ... AG16: =Calc!AG21 -> 0
B17: Acquisition Cost | C17: =Calc!C23 -> 5945322 | D17: 0 | E17: 0 | F17: 0 | G17: 0 | H17: 0 | I17: 0 | J17: 0 | K17: 0 | L17: 0 | M17: 0 | N17: 0 | O17: 0 | P17: 0 | Q17: 0 | R17: 0 | S17: 0 | T17: 0 | U17: 0 | V17: 0 | W17: 0 | X17: 0 | Y17: 0 | Z17: 0 | AA17: 0 | AB17: 0 | AC17: 0 | AD17: 0 | AE17: 0 | AF17: 0 | AG17: 0
A18: Capex Annualized | C18: =Calc!C25 -> 0 | D18: =Calc!D25 -> 9654022.2 | E18: =Calc!E25 -> 6693923.4 | F18: =Calc!F25 -> 5808681.5 | G18: =Calc!G25 -> 5477698.3 | H18: =Calc!H25 -> 5183012.1 | I18: =Calc!I25 -> 5010847.7 | J18: =Calc!J25 -> 4962210.5 | ... AG18: =Calc!AG25 -> 3509996.2
